BEGIN:VCALENDAR
VERSION:2.0
PRODID:-//wp-events-plugin.com//7.2.3.1//EN
TZID:Europe/Berlin
X-WR-TIMEZONE:Europe/Berlin
BEGIN:VEVENT
UID:49@eulenspiegel-aachen.de
DTSTART;TZID=Europe/Berlin:20270109T000000
DTEND;TZID=Europe/Berlin:20270109T000000
DTSTAMP:20260410T152755Z
URL:https://www.eulenspiegel-aachen.de/Veranstaltung/fastelovvendsitzung-2
 027/
SUMMARY:Fastelovvendsitzung 2027
DESCRIPTION:[pdf-embedder url="https://www.eulenspiegel-aachen.de/wp-conten
 t/uploads/2026/01/2027_Fastelovvendsitzung.pdf"]
CATEGORIES:Karneval
LOCATION:Eurogress Aachen\, Monheimsallee 48\, Aachen\, 52062\, Deutschland
GEO:50.78118;6.0913699999999835
X-APPLE-STRUCTURED-LOCATION;VALUE=URI;X-ADDRESS=Monheimsallee 48\, Aachen\,
  52062\, Deutschland;X-APPLE-RADIUS=100;X-TITLE=Eurogress Aachen:geo:50.78
 118,6.0913699999999835
END:VEVENT
BEGIN:VTIMEZONE
TZID:Europe/Berlin
X-LIC-LOCATION:Europe/Berlin
BEGIN:STANDARD
DTSTART:20261025T020000
TZOFFSETFROM:+0200
TZOFFSETTO:+0100
TZNAME:CET
END:STANDARD
END:VTIMEZONE
END:VCALENDAR